BEGIN:VCALENDAR
VERSION:2.0
PRODID:-//Uudenkyl&auml;n seurantalo - ECPv6.15.20//NONSGML v1.0//EN
CALSCALE:GREGORIAN
METHOD:PUBLISH
X-WR-CALNAME:Uudenkyl&auml;n seurantalo
X-ORIGINAL-URL:https://www.uudenkylanseurantalo.fi
X-WR-CALDESC:Tapahtumat Uudenkyl&auml;n seurantalo
REFRESH-INTERVAL;VALUE=DURATION:PT1H
X-Robots-Tag:noindex
X-PUBLISHED-TTL:PT1H
BEGIN:VTIMEZONE
TZID:Europe/Helsinki
BEGIN:DAYLIGHT
TZOFFSETFROM:+0200
TZOFFSETTO:+0300
TZNAME:EEST
DTSTART:20250330T010000
END:DAYLIGHT
BEGIN:STANDARD
TZOFFSETFROM:+0300
TZOFFSETTO:+0200
TZNAME:EET
DTSTART:20251026T010000
END:STANDARD
BEGIN:DAYLIGHT
TZOFFSETFROM:+0200
TZOFFSETTO:+0300
TZNAME:EEST
DTSTART:20260329T010000
END:DAYLIGHT
BEGIN:STANDARD
TZOFFSETFROM:+0300
TZOFFSETTO:+0200
TZNAME:EET
DTSTART:20261025T010000
END:STANDARD
BEGIN:DAYLIGHT
TZOFFSETFROM:+0200
TZOFFSETTO:+0300
TZNAME:EEST
DTSTART:20270328T010000
END:DAYLIGHT
BEGIN:STANDARD
TZOFFSETFROM:+0300
TZOFFSETTO:+0200
TZNAME:EET
DTSTART:20271031T010000
END:STANDARD
END:VTIMEZONE
BEGIN:VEVENT
DTSTART;TZID=Europe/Helsinki:20260420T090000
DTEND;TZID=Europe/Helsinki:20260420T113000
DTSTAMP:20260420T182458
CREATED:20260119T115653Z
LAST-MODIFIED:20260119T115653Z
UID:1021-1776675600-1776684600@www.uudenkylanseurantalo.fi
SUMMARY:MLL Perhekahvila
DESCRIPTION:Tervetuloa Uudenkylän perhekahvilaan!\nYhteistyössä Uudenkylän Salpa ry & Mannerheimin lastensuojeluliiton Lahden yhdistys \n 
URL:https://www.uudenkylanseurantalo.fi/tapahtuma/mll-perhekahvila-28/
LOCATION:Uudenkylän seurantalo\, Sähkötie 2\, Uusikylä\, 16100\, Suomi
CATEGORIES:Perhekahvila
END:VEVENT
BEGIN:VEVENT
DTSTART;TZID=Europe/Helsinki:20260420T130000
DTEND;TZID=Europe/Helsinki:20260420T150000
DTSTAMP:20260420T182458
CREATED:20260119T114445Z
LAST-MODIFIED:20260119T114445Z
UID:1003-1776690000-1776697200@www.uudenkylanseurantalo.fi
SUMMARY:Aikuisten iltapäiväkerho
DESCRIPTION:
URL:https://www.uudenkylanseurantalo.fi/tapahtuma/aikuisten-iltapaivakerho-13/
LOCATION:Uudenkylän seurantalo\, Sähkötie 2\, Uusikylä\, 16100\, Suomi
CATEGORIES:Aikuisten iltapäiväkerho
END:VEVENT
BEGIN:VEVENT
DTSTART;TZID=Europe/Helsinki:20260423T153000
DTEND;TZID=Europe/Helsinki:20260423T163000
DTSTAMP:20260420T182458
CREATED:20251126T145515Z
LAST-MODIFIED:20251126T145515Z
UID:939-1776958200-1776961800@www.uudenkylanseurantalo.fi
SUMMARY:Kepparikerho
DESCRIPTION:1.-6. luokkalaisille. Hypitään erilaisia esteitä ja esteratoja kepparilla tai ilman. Mukana muutama lainakeppari. \nVapaaehtoinen 1€ osallistumismaksu. Mukana mahtuu 10 ensimmäistä ilmoittautunutta.  \nIlmoittautumiset ja lisätiedot Anne Laakkala / 045 6381303
URL:https://www.uudenkylanseurantalo.fi/tapahtuma/kepparikerho-4/
LOCATION:Uudenkylän seurantalo\, Sähkötie 2\, Uusikylä\, 16100\, Suomi
END:VEVENT
BEGIN:VEVENT
DTSTART;TZID=Europe/Helsinki:20260423T180000
DTEND;TZID=Europe/Helsinki:20260423T190000
DTSTAMP:20260420T182458
CREATED:20260209T102757Z
LAST-MODIFIED:20260209T102757Z
UID:1100-1776967200-1776970800@www.uudenkylanseurantalo.fi
SUMMARY:Zumba Sentao®
DESCRIPTION:Tule\, kokeile ja ihastu! \nZumba Sentao® -tunnit Uudenkylän seurantalolla torstaisin 5.3 – 23.4.2026 klo 18-19 (ei kiirastorstaina 2.4). \nHinta 10€/kerta \nSentao tarkoittaa istumista. Käytämme tuolia apuvälineenä\, kun treenaamme eri lihasryhmiä monipuolisesti perinteisten Zumba®-rytmien tahdissa ja pidämme hauskaa tekniikkaa unohtamatta. Tunti sopii kaikille. Kesto on noin 50 min sisältäen alkulämmittelyn\, lihaskunto-osuuden ja loppuvenyttelyt. Käytössämme on Uudenkylän Seurantalon sali tuoleineen. Ota mukaan: mukavat urheiluvaatteet\, sisäkengät\, juomapullo ja pyyhe sekä liukumaton alusta tuolin jalkojen alle esim. kumipohjainen kynnysmatto. \nLisätiedot: http://schrodia.fi/ \nZymba Sentao
URL:https://www.uudenkylanseurantalo.fi/tapahtuma/zumba-sentao-10/
LOCATION:Uudenkylän seurantalo\, Sähkötie 2\, Uusikylä\, 16100\, Suomi
CATEGORIES:Zumba Sentao®
ORGANIZER;CN="Yhteisty%C3%B6ss%C3%A4 Schrodia ja Uudenkyl%C3%A4n Salpa ry":MAILTO:info@schrodia.fi
END:VEVENT
BEGIN:VEVENT
DTSTART;TZID=Europe/Helsinki:20260424T190000
DTEND;TZID=Europe/Helsinki:20260424T230000
DTSTAMP:20260420T182458
CREATED:20251113T171906Z
LAST-MODIFIED:20260105T105306Z
UID:876-1777057200-1777071600@www.uudenkylanseurantalo.fi
SUMMARY:Tanssit - Raimo Turtiainen ja pojat
DESCRIPTION:Tervetuloa tansseihin! \nEsiintyjänä Raimo Turtiainen ja pojat \n \nLipun hinta: 18€ \n\nKahvila\nWC\nVartioitu narikka\nVesipiste\nIlmalämpöpumput/ilmastointi\nTanssilattia suorakulmio\, lakattu puulattia\, 200m2\n\nTanssit järjestetään tammikuusta huhtikuuhun\, kuukausittain\, aina kuukauden viimeisinä perjantaina 30.1\, 27.2\, 27.3 ja 24.4. Tanssit järjestää Uudenkylän Salpa ry:n tanssitiimi. \nPidätämme oikeuden muutoksiin
URL:https://www.uudenkylanseurantalo.fi/tapahtuma/tanssit-raimo-turtiainen-ja-pojat/
LOCATION:Uudenkylän seurantalo\, Sähkötie 2\, Uusikylä\, 16100\, Suomi
CATEGORIES:Tanssit
END:VEVENT
BEGIN:VEVENT
DTSTART;TZID=Europe/Helsinki:20260427T090000
DTEND;TZID=Europe/Helsinki:20260427T113000
DTSTAMP:20260420T182458
CREATED:20260119T115745Z
LAST-MODIFIED:20260119T115745Z
UID:1023-1777280400-1777289400@www.uudenkylanseurantalo.fi
SUMMARY:MLL Perhekahvila
DESCRIPTION:Tervetuloa Uudenkylän perhekahvilaan!\nYhteistyössä Uudenkylän Salpa ry & Mannerheimin lastensuojeluliiton Lahden yhdistys \n 
URL:https://www.uudenkylanseurantalo.fi/tapahtuma/mll-perhekahvila-29/
LOCATION:Uudenkylän seurantalo\, Sähkötie 2\, Uusikylä\, 16100\, Suomi
CATEGORIES:Perhekahvila
END:VEVENT
BEGIN:VEVENT
DTSTART;TZID=Europe/Helsinki:20260427T130000
DTEND;TZID=Europe/Helsinki:20260427T150000
DTSTAMP:20260420T182458
CREATED:20260119T114514Z
LAST-MODIFIED:20260119T114514Z
UID:1005-1777294800-1777302000@www.uudenkylanseurantalo.fi
SUMMARY:Aikuisten iltapäiväkerho
DESCRIPTION:
URL:https://www.uudenkylanseurantalo.fi/tapahtuma/aikuisten-iltapaivakerho-14/
LOCATION:Uudenkylän seurantalo\, Sähkötie 2\, Uusikylä\, 16100\, Suomi
CATEGORIES:Aikuisten iltapäiväkerho
END:VEVENT
END:VCALENDAR