BEGIN:VCALENDAR
VERSION:2.0
PRODID:-//Uudenkyl&auml;n seurantalo - ECPv6.15.20//NONSGML v1.0//EN
CALSCALE:GREGORIAN
METHOD:PUBLISH
X-ORIGINAL-URL:https://www.uudenkylanseurantalo.fi
X-WR-CALDESC:Tapahtumat Uudenkyl&auml;n seurantalo
REFRESH-INTERVAL;VALUE=DURATION:PT1H
X-Robots-Tag:noindex
X-PUBLISHED-TTL:PT1H
BEGIN:VTIMEZONE
TZID:Europe/Helsinki
BEGIN:DAYLIGHT
TZOFFSETFROM:+0200
TZOFFSETTO:+0300
TZNAME:EEST
DTSTART:20250330T010000
END:DAYLIGHT
BEGIN:STANDARD
TZOFFSETFROM:+0300
TZOFFSETTO:+0200
TZNAME:EET
DTSTART:20251026T010000
END:STANDARD
BEGIN:DAYLIGHT
TZOFFSETFROM:+0200
TZOFFSETTO:+0300
TZNAME:EEST
DTSTART:20260329T010000
END:DAYLIGHT
BEGIN:STANDARD
TZOFFSETFROM:+0300
TZOFFSETTO:+0200
TZNAME:EET
DTSTART:20261025T010000
END:STANDARD
BEGIN:DAYLIGHT
TZOFFSETFROM:+0200
TZOFFSETTO:+0300
TZNAME:EEST
DTSTART:20270328T010000
END:DAYLIGHT
BEGIN:STANDARD
TZOFFSETFROM:+0300
TZOFFSETTO:+0200
TZNAME:EET
DTSTART:20271031T010000
END:STANDARD
END:VTIMEZONE
BEGIN:VEVENT
DTSTART;TZID=Europe/Helsinki:20260522T190000
DTEND;TZID=Europe/Helsinki:20260522T220000
DTSTAMP:20260425T160609
CREATED:20260327T142634Z
LAST-MODIFIED:20260422T102358Z
UID:1137-1779476400-1779487200@www.uudenkylanseurantalo.fi
SUMMARY:Karaokeatanssit + tanssin opetusta
DESCRIPTION:Klo 19 – 20 TANSSIKURSSI\, lajina Bugg\, opettajana Bettina Karppinen \nKlo 20 – 22 KARAOKETANSSIT\, estradi on vapaa kaikille. Ilmoittaudu paikan päällä ja laula toisille tanssimusiikkia\, oman kylän Riikosen Lare laulattaa. \nLippu 12€ (maksutavat: käteinen\, pankkikortti ja mobilepay)\n– Maksuton narikka ja parkki\n– Buffetti palvelee \nJärjestää Rikary ja Uudenkylän Salpa ry \nTervetuloa!
URL:https://www.uudenkylanseurantalo.fi/tapahtuma/karaokeatanssit-tanssin-opetusta/
LOCATION:Uudenkylän seurantalo\, Sähkötie 2\, Uusikylä\, 16100\, Suomi
CATEGORIES:Tanssit
END:VEVENT
END:VCALENDAR