BEGIN:VCALENDAR
VERSION:2.0
PRODID:-//Uudenkyl&auml;n seurantalo - ECPv6.15.20//NONSGML v1.0//EN
CALSCALE:GREGORIAN
METHOD:PUBLISH
X-WR-CALNAME:Uudenkyl&auml;n seurantalo
X-ORIGINAL-URL:https://www.uudenkylanseurantalo.fi
X-WR-CALDESC:Tapahtumat Uudenkyl&auml;n seurantalo
REFRESH-INTERVAL;VALUE=DURATION:PT1H
X-Robots-Tag:noindex
X-PUBLISHED-TTL:PT1H
BEGIN:VTIMEZONE
TZID:Europe/Helsinki
BEGIN:DAYLIGHT
TZOFFSETFROM:+0200
TZOFFSETTO:+0300
TZNAME:EEST
DTSTART:20250330T010000
END:DAYLIGHT
BEGIN:STANDARD
TZOFFSETFROM:+0300
TZOFFSETTO:+0200
TZNAME:EET
DTSTART:20251026T010000
END:STANDARD
BEGIN:DAYLIGHT
TZOFFSETFROM:+0200
TZOFFSETTO:+0300
TZNAME:EEST
DTSTART:20260329T010000
END:DAYLIGHT
BEGIN:STANDARD
TZOFFSETFROM:+0300
TZOFFSETTO:+0200
TZNAME:EET
DTSTART:20261025T010000
END:STANDARD
BEGIN:DAYLIGHT
TZOFFSETFROM:+0200
TZOFFSETTO:+0300
TZNAME:EEST
DTSTART:20270328T010000
END:DAYLIGHT
BEGIN:STANDARD
TZOFFSETFROM:+0300
TZOFFSETTO:+0200
TZNAME:EET
DTSTART:20271031T010000
END:STANDARD
END:VTIMEZONE
BEGIN:VEVENT
DTSTART;TZID=Europe/Helsinki:20260511T090000
DTEND;TZID=Europe/Helsinki:20260511T113000
DTSTAMP:20260421T134833
CREATED:20260119T115857Z
LAST-MODIFIED:20260119T115857Z
UID:1027-1778490000-1778499000@www.uudenkylanseurantalo.fi
SUMMARY:MLL Perhekahvila
DESCRIPTION:Tervetuloa Uudenkylän perhekahvilaan!\nYhteistyössä Uudenkylän Salpa ry & Mannerheimin lastensuojeluliiton Lahden yhdistys \n 
URL:https://www.uudenkylanseurantalo.fi/tapahtuma/mll-perhekahvila-31/
LOCATION:Uudenkylän seurantalo\, Sähkötie 2\, Uusikylä\, 16100\, Suomi
CATEGORIES:Perhekahvila
END:VEVENT
BEGIN:VEVENT
DTSTART;TZID=Europe/Helsinki:20260511T130000
DTEND;TZID=Europe/Helsinki:20260511T150000
DTSTAMP:20260421T134833
CREATED:20260119T114719Z
LAST-MODIFIED:20260119T114719Z
UID:1011-1778504400-1778511600@www.uudenkylanseurantalo.fi
SUMMARY:Aikuisten iltapäiväkerho
DESCRIPTION:
URL:https://www.uudenkylanseurantalo.fi/tapahtuma/aikuisten-iltapaivakerho-17/
LOCATION:Uudenkylän seurantalo\, Sähkötie 2\, Uusikylä\, 16100\, Suomi
CATEGORIES:Aikuisten iltapäiväkerho
END:VEVENT
END:VCALENDAR